BEGIN:VCALENDAR
VERSION:2.0
PRODID:-//Crossroads United Methodist Church - ECPv6.15.20//NONSGML v1.0//EN
CALSCALE:GREGORIAN
METHOD:PUBLISH
X-WR-CALNAME:Crossroads United Methodist Church
X-ORIGINAL-URL:https://www.crossroadsnova.org
X-WR-CALDESC:Events for Crossroads United Methodist Church
REFRESH-INTERVAL;VALUE=DURATION:PT1H
X-Robots-Tag:noindex
X-PUBLISHED-TTL:PT1H
BEGIN:VTIMEZONE
TZID:UTC
BEGIN:STANDARD
TZOFFSETFROM:+0000
TZOFFSETTO:+0000
TZNAME:UTC
DTSTART:20250101T000000
END:STANDARD
END:VTIMEZONE
BEGIN:VEVENT
DTSTART;TZID=UTC:20260129T190000
DTEND;TZID=UTC:20260129T203000
DTSTAMP:20260421T100827
CREATED:20260105T192437Z
LAST-MODIFIED:20260124T234005Z
UID:10010733-1769713200-1769718600@www.crossroadsnova.org
SUMMARY:Thursday Women's Bible Study
DESCRIPTION:Connect\, share\, and grow with a welcoming group of women who meet weekly to explore meaningful topics. The next study will be Perfectly Flawed by Lisa Toney. Think your imperfections invalidate you for God’s service? Think again! Toney’s 6-week study explores how there’s an unparalleled power Jesus gives that’s only found in our weakness. If you are interested in participating\, please sign up here. \nThursdays\, 7-8:30pm
URL:https://www.crossroadsnova.org/event/thursday-womens-bible-study/2026-01-29/
LOCATION:Crossroads UMC\, 43454 Crossroads Drive\, Ashburn\, VA\, 20147
CATEGORIES:Adult Events
ATTACH;FMTTYPE=image/png:https://www.crossroadsnova.org/wp-content/uploads/2026/01/Thursday-Womens-Bible-Study-e1767640935372.png
END:VEVENT
BEGIN:VEVENT
DTSTART;TZID=UTC:20260129T193000
DTEND;TZID=UTC:20260129T210000
DTSTAMP:20260421T100827
CREATED:20260115T212154Z
LAST-MODIFIED:20260124T233255Z
UID:10011183-1769715000-1769720400@www.crossroadsnova.org
SUMMARY:Sound Bath
DESCRIPTION:  \nTake part in a rejuvenating experience at our Sound Bath event with Spiral Sensations! Immerse yourself in a calming journey of sound that soothes both mind and body. Skilled practitioners will guide you through this unique sonic experience\, designed to leave you feeling refreshed\, renewed\, and deeply relaxed. This experience is made possible by Wellness Loudoun. \nCost: $25 (all proceeds go directly to the practitioners). Space is limited\, so click here to register now!
URL:https://www.crossroadsnova.org/event/sound-bath-2/
LOCATION:Crossroads UMC\, 43454 Crossroads Drive\, Ashburn\, VA\, 20147
CATEGORIES:Adult Events
ATTACH;FMTTYPE=image/png:https://www.crossroadsnova.org/wp-content/uploads/2025/05/Sound-Bath-1-e1747244082222.png
END:VEVENT
END:VCALENDAR