BEGIN:VCALENDAR
VERSION:2.0
PRODID:-//Crossroads United Methodist Church - ECPv6.15.20//NONSGML v1.0//EN
CALSCALE:GREGORIAN
METHOD:PUBLISH
X-ORIGINAL-URL:https://www.crossroadsnova.org
X-WR-CALDESC:Events for Crossroads United Methodist Church
REFRESH-INTERVAL;VALUE=DURATION:PT1H
X-Robots-Tag:noindex
X-PUBLISHED-TTL:PT1H
BEGIN:VTIMEZONE
TZID:UTC
BEGIN:STANDARD
TZOFFSETFROM:+0000
TZOFFSETTO:+0000
TZNAME:UTC
DTSTART:20250101T000000
END:STANDARD
END:VTIMEZONE
BEGIN:VEVENT
DTSTART;TZID=UTC:20260401T190000
DTEND;TZID=UTC:20260401T203000
DTSTAMP:20260422T004717
CREATED:20260401T182353Z
LAST-MODIFIED:20260401T182354Z
UID:10011401-1775070000-1775075400@www.crossroadsnova.org
SUMMARY:Beginner Zentangle Class: Summer Sunshine
DESCRIPTION:Take a relaxing\, beginner-friendly class where Certified Zentangle Teacher Kerstin Becker guides you in creating a charming art piece using simple Zentangle® patterns—no art skills needed. Bring your child (late elementary + up) for screen-free creativity that doesn’t feel like homework. Click here to register for this Wellness Loudoun event.ze
URL:https://www.crossroadsnova.org/event/beginner-zentangle-class-summer-sunshine/
LOCATION:Crossroads UMC\, 43454 Crossroads Drive\, Ashburn\, VA\, 20147
CATEGORIES:Adult Events,Student Events
ATTACH;FMTTYPE=image/png:https://www.crossroadsnova.org/wp-content/uploads/2025/10/zentangle-e1761248747913.png
END:VEVENT
END:VCALENDAR