BEGIN:VCALENDAR
VERSION:2.0
PRODID:-//Crossroads United Methodist Church - ECPv6.15.20//NONSGML v1.0//EN
CALSCALE:GREGORIAN
METHOD:PUBLISH
X-WR-CALNAME:Crossroads United Methodist Church
X-ORIGINAL-URL:https://www.crossroadsnova.org
X-WR-CALDESC:Events for Crossroads United Methodist Church
REFRESH-INTERVAL;VALUE=DURATION:PT1H
X-Robots-Tag:noindex
X-PUBLISHED-TTL:PT1H
BEGIN:VTIMEZONE
TZID:UTC
BEGIN:STANDARD
TZOFFSETFROM:+0000
TZOFFSETTO:+0000
TZNAME:UTC
DTSTART:20250101T000000
END:STANDARD
END:VTIMEZONE
BEGIN:VEVENT
DTSTART;TZID=UTC:20260529T180000
DTEND;TZID=UTC:20260529T210000
DTSTAMP:20260421T212552
CREATED:20260415T163349Z
LAST-MODIFIED:20260415T163522Z
UID:10011447-1780077600-1780088400@www.crossroadsnova.org
SUMMARY:Family Glow Gala
DESCRIPTION:It’s going to be an unforgettable evening of glowing fun featuring music\, dancing\, creative crafts\, exciting games\, and awesome prizes for the whole family. Watch the room come alive under the lights as everyone shines bright together! \nCome wearing your brightest neon or white to really glow and be part of the magic! Bring the whole family and get ready for a night full of laughter\, color\, and unforgettable memories. Let’s glow! \nClick here to register.
URL:https://www.crossroadsnova.org/event/family-glow-gala/
LOCATION:Crossroads UMC\, 43454 Crossroads Drive\, Ashburn\, VA\, 20147
CATEGORIES:Adult Events,Children Events,Family Events
ATTACH;FMTTYPE=image/png:https://www.crossroadsnova.org/wp-content/uploads/2026/04/Glow-Gala-1-e1776270775759.png
END:VEVENT
END:VCALENDAR