BEGIN:VCALENDAR
VERSION:2.0
PRODID:-//Crossroads United Methodist Church - ECPv6.15.20//NONSGML v1.0//EN
CALSCALE:GREGORIAN
METHOD:PUBLISH
X-WR-CALNAME:Crossroads United Methodist Church
X-ORIGINAL-URL:https://www.crossroadsnova.org
X-WR-CALDESC:Events for Crossroads United Methodist Church
REFRESH-INTERVAL;VALUE=DURATION:PT1H
X-Robots-Tag:noindex
X-PUBLISHED-TTL:PT1H
BEGIN:VTIMEZONE
TZID:UTC
BEGIN:STANDARD
TZOFFSETFROM:+0000
TZOFFSETTO:+0000
TZNAME:UTC
DTSTART:20250101T000000
END:STANDARD
END:VTIMEZONE
BEGIN:VEVENT
DTSTART;TZID=UTC:20260601T170000
DTEND;TZID=UTC:20260601T180000
DTSTAMP:20260421T181447
CREATED:20251105T204646Z
LAST-MODIFIED:20260225T202935Z
UID:10011297-1780333200-1780336800@www.crossroadsnova.org
SUMMARY:Baptism Workshop
DESCRIPTION:In baptism\, each infant\, child\, and adult is marked as God’s beloved\, just as Jesus was marked in his own baptism. As a church community\, we celebrate the individual and commit to surround them with a welcoming community of love and support as they grow in their faith. \nThis workshop is designed for adults bringing their infants and children for baptism. \nPlease complete this form to attend the workshop.
URL:https://www.crossroadsnova.org/event/baptism-workshop-4/2026-06-01/
LOCATION:Crossroads UMC\, 43454 Crossroads Drive\, Ashburn\, VA\, 20147
CATEGORIES:Adult Events
ATTACH;FMTTYPE=image/png:https://www.crossroadsnova.org/wp-content/uploads/2024/09/Baptism-e1736437163441.png
END:VEVENT
END:VCALENDAR