BEGIN:VCALENDAR
VERSION:2.0
PRODID:-//Crossroads United Methodist Church - ECPv6.15.20//NONSGML v1.0//EN
CALSCALE:GREGORIAN
METHOD:PUBLISH
X-WR-CALNAME:Crossroads United Methodist Church
X-ORIGINAL-URL:https://www.crossroadsnova.org
X-WR-CALDESC:Events for Crossroads United Methodist Church
REFRESH-INTERVAL;VALUE=DURATION:PT1H
X-Robots-Tag:noindex
X-PUBLISHED-TTL:PT1H
BEGIN:VTIMEZONE
TZID:UTC
BEGIN:STANDARD
TZOFFSETFROM:+0000
TZOFFSETTO:+0000
TZNAME:UTC
DTSTART:20250101T000000
END:STANDARD
END:VTIMEZONE
BEGIN:VEVENT
DTSTART;TZID=UTC:20260411T170000
DTEND;TZID=UTC:20260411T190000
DTSTAMP:20260423T233248
CREATED:20260327T135357Z
LAST-MODIFIED:20260401T162403Z
UID:10011386-1775926800-1775934000@www.crossroadsnova.org
SUMMARY:Prime Timers Potluck
DESCRIPTION:Prime Timers Potluck is the perfect evening to connect\, laugh\, and enjoy great company with others ages 55+. Bring a favorite dish to share and settle in for a relaxed night of good food and easy conversation. Come as you are\, bring a dish you enjoy\, and get ready for a fun\, welcoming night together. \nClick here to RSVP.
URL:https://www.crossroadsnova.org/event/prime-timers-potluck/
LOCATION:Crossroads UMC\, 43454 Crossroads Drive\, Ashburn\, VA\, 20147
CATEGORIES:Adult Events
ATTACH;FMTTYPE=image/png:https://www.crossroadsnova.org/wp-content/uploads/2026/03/Prime-Timers-1-e1775060500534.png
END:VEVENT
BEGIN:VEVENT
DTSTART;TZID=UTC:20260413T190000
DTEND;TZID=UTC:20260413T200000
DTSTAMP:20260423T233248
CREATED:20260211T210029Z
LAST-MODIFIED:20260211T210029Z
UID:10011272-1776106800-1776110400@www.crossroadsnova.org
SUMMARY:Let Your Light Shine Small Group
DESCRIPTION:This group meets at Crossroads on Mondays\, 7 – 8 PM in room 104 (Ryan Chapel).
URL:https://www.crossroadsnova.org/event/let-your-light-shine-small-group/2026-04-13/
LOCATION:Crossroads UMC\, 43454 Crossroads Drive\, Ashburn\, VA\, 20147
CATEGORIES:Adult Events
END:VEVENT
BEGIN:VEVENT
DTSTART;TZID=UTC:20260413T190000
DTEND;TZID=UTC:20260413T200000
DTSTAMP:20260423T233248
CREATED:20260324T170636Z
LAST-MODIFIED:20260324T170841Z
UID:10011374-1776106800-1776110400@www.crossroadsnova.org
SUMMARY:Slow Flow Yoga
DESCRIPTION:Ease into your week with a calming\, mindful movement practice led by Yoga Therapist Nancy McGovern. This slow flow class is designed to help you release tension\, connect with your breath\, and move with intention—perfect for all levels\, including beginners. Click here to register for this Wellness Loudoun event.
URL:https://www.crossroadsnova.org/event/slow-flow-yoga/2026-04-13/
LOCATION:Crossroads UMC\, 43454 Crossroads Drive\, Ashburn\, VA\, 20147
CATEGORIES:Adult Events
ATTACH;FMTTYPE=image/png:https://www.crossroadsnova.org/wp-content/uploads/2025/06/Yoga-Mondays-e1757432975481.png
END:VEVENT
BEGIN:VEVENT
DTSTART;TZID=UTC:20260413T190000
DTEND;TZID=UTC:20260413T210000
DTSTAMP:20260423T233248
CREATED:20260105T203313Z
LAST-MODIFIED:20260105T203314Z
UID:10011003-1776106800-1776114000@www.crossroadsnova.org
SUMMARY:Pub Theology
DESCRIPTION:Pub Theology meets every other Monday evening. We are a group of men who are open\, honest and supportive of one another. We pick different books/topics and then come together over beer/wine/water/snacks/etc. to discuss in a casual conversation. \nSign up here. Email smallgroups@crossroadsnova.org for more information.
URL:https://www.crossroadsnova.org/event/pub-theology-4-2/2026-04-13/
LOCATION:VA
CATEGORIES:Adult Events,Small Groups
ATTACH;FMTTYPE=image/png:https://www.crossroadsnova.org/wp-content/uploads/2024/12/pub-theology-e1734554804145.png
END:VEVENT
BEGIN:VEVENT
DTSTART;TZID=UTC:20260416T190000
DTEND;TZID=UTC:20260416T203000
DTSTAMP:20260423T233248
CREATED:20260105T192437Z
LAST-MODIFIED:20260124T234005Z
UID:10010744-1776366000-1776371400@www.crossroadsnova.org
SUMMARY:Thursday Women's Bible Study
DESCRIPTION:Connect\, share\, and grow with a welcoming group of women who meet weekly to explore meaningful topics. The next study will be Perfectly Flawed by Lisa Toney. Think your imperfections invalidate you for God’s service? Think again! Toney’s 6-week study explores how there’s an unparalleled power Jesus gives that’s only found in our weakness. If you are interested in participating\, please sign up here. \nThursdays\, 7-8:30pm
URL:https://www.crossroadsnova.org/event/thursday-womens-bible-study/2026-04-16/
LOCATION:Crossroads UMC\, 43454 Crossroads Drive\, Ashburn\, VA\, 20147
CATEGORIES:Adult Events
ATTACH;FMTTYPE=image/png:https://www.crossroadsnova.org/wp-content/uploads/2026/01/Thursday-Womens-Bible-Study-e1767640935372.png
END:VEVENT
BEGIN:VEVENT
DTSTART;TZID=UTC:20260416T190000
DTEND;TZID=UTC:20260416T203000
DTSTAMP:20260423T233248
CREATED:20260324T171207Z
LAST-MODIFIED:20260324T171207Z
UID:10011377-1776366000-1776371400@www.crossroadsnova.org
SUMMARY:Yoga for Anxiety
DESCRIPTION:This 4-week Yoga Therapy workshop is for adults with a diagnosis of and/or experiencing symptoms of anxiety. Each week will include evidence-informed practices and will build on practices previously learned. Practices will include yoga asana\, pranayama\, mindfulness\, meditation\, and self-reflection. Click here to register for this Wellness Loudoun event.
URL:https://www.crossroadsnova.org/event/yoga-for-anxiety/2026-04-16/
LOCATION:Crossroads UMC\, 43454 Crossroads Drive\, Ashburn\, VA\, 20147
CATEGORIES:Adult Events
ATTACH;FMTTYPE=image/png:https://www.crossroadsnova.org/wp-content/uploads/2025/07/Teen-Yoga-e1752260646950.png
END:VEVENT
BEGIN:VEVENT
DTSTART;TZID=UTC:20260419T100000
DTEND;TZID=UTC:20260419T123000
DTSTAMP:20260423T233248
CREATED:20260112T173224Z
LAST-MODIFIED:20260209T203954Z
UID:10011252-1776592800-1776601800@www.crossroadsnova.org
SUMMARY:Tea with Tim
DESCRIPTION:Interested in learning more about Crossroads and/or membership? Come to Ryan Chapel (Rm 104) after worship to meet with Pastor Tim and others to learn more!
URL:https://www.crossroadsnova.org/event/tea-with-tim-2/2026-04-19/
LOCATION:Crossroads UMC\, 43454 Crossroads Drive\, Ashburn\, VA\, 20147
CATEGORIES:Adult Events
ATTACH;FMTTYPE=image/png:https://www.crossroadsnova.org/wp-content/uploads/2024/05/Tea-with-Tim-1-e1728660117908.png
END:VEVENT
BEGIN:VEVENT
DTSTART;TZID=UTC:20260420T190000
DTEND;TZID=UTC:20260420T203000
DTSTAMP:20260423T233248
CREATED:20260114T172951Z
LAST-MODIFIED:20260114T172952Z
UID:10011168-1776711600-1776717000@www.crossroadsnova.org
SUMMARY:Clean Up Your Debt\, Boost Your Credit\, & Choose Your Advisor
DESCRIPTION:In the next Financial Wellness series class – Learn to leverage smart debt and fix your credit score. We’ll simplify wills and trusts for secure estate planning and give you a straightforward guide to choosing a trustworthy financial advisor. Essential knowledge for securing your long-term financial control. Click here to register.
URL:https://www.crossroadsnova.org/event/clean-up-your-debt-boost-your-credit-choose-your-advisor/
LOCATION:Crossroads UMC\, 43454 Crossroads Drive\, Ashburn\, VA\, 20147
CATEGORIES:Adult Events
ATTACH;FMTTYPE=image/png:https://www.crossroadsnova.org/wp-content/uploads/2025/09/Financial-Wellness-e1758822015612.png
END:VEVENT
BEGIN:VEVENT
DTSTART;TZID=UTC:20260423T190000
DTEND;TZID=UTC:20260423T203000
DTSTAMP:20260423T233248
CREATED:20260105T192437Z
LAST-MODIFIED:20260124T234005Z
UID:10010745-1776970800-1776976200@www.crossroadsnova.org
SUMMARY:Thursday Women's Bible Study
DESCRIPTION:Connect\, share\, and grow with a welcoming group of women who meet weekly to explore meaningful topics. The next study will be Perfectly Flawed by Lisa Toney. Think your imperfections invalidate you for God’s service? Think again! Toney’s 6-week study explores how there’s an unparalleled power Jesus gives that’s only found in our weakness. If you are interested in participating\, please sign up here. \nThursdays\, 7-8:30pm
URL:https://www.crossroadsnova.org/event/thursday-womens-bible-study/2026-04-23/
LOCATION:Crossroads UMC\, 43454 Crossroads Drive\, Ashburn\, VA\, 20147
CATEGORIES:Adult Events
ATTACH;FMTTYPE=image/png:https://www.crossroadsnova.org/wp-content/uploads/2026/01/Thursday-Womens-Bible-Study-e1767640935372.png
END:VEVENT
BEGIN:VEVENT
DTSTART;TZID=UTC:20260423T190000
DTEND;TZID=UTC:20260423T203000
DTSTAMP:20260423T233248
CREATED:20260324T171207Z
LAST-MODIFIED:20260324T171207Z
UID:10011378-1776970800-1776976200@www.crossroadsnova.org
SUMMARY:Yoga for Anxiety
DESCRIPTION:This 4-week Yoga Therapy workshop is for adults with a diagnosis of and/or experiencing symptoms of anxiety. Each week will include evidence-informed practices and will build on practices previously learned. Practices will include yoga asana\, pranayama\, mindfulness\, meditation\, and self-reflection. Click here to register for this Wellness Loudoun event.
URL:https://www.crossroadsnova.org/event/yoga-for-anxiety/2026-04-23/
LOCATION:Crossroads UMC\, 43454 Crossroads Drive\, Ashburn\, VA\, 20147
CATEGORIES:Adult Events
ATTACH;FMTTYPE=image/png:https://www.crossroadsnova.org/wp-content/uploads/2025/07/Teen-Yoga-e1752260646950.png
END:VEVENT
BEGIN:VEVENT
DTSTART;TZID=UTC:20260425T083000
DTEND;TZID=UTC:20260425T110000
DTSTAMP:20260423T233248
CREATED:20260217T210627Z
LAST-MODIFIED:20260217T210702Z
UID:10011284-1777105800-1777114800@www.crossroadsnova.org
SUMMARY:EmpowerHer 5K/2K
DESCRIPTION:Join us on April 25th for the EmpowerHer 5K/2K—a fun and meaningful event for everyone! Run\, walk\, volunteer\, sponsor\, or donate and be part of a day dedicated to empowering women in our community and around the world. \nProceeds support the women’s initiatives of Crossroads UMC\, including building homes for single mothers in Guatemala\, supporting women at the Loudoun County Adult Detention Center\, educating young women in Uganda\, and partnering with local shelters. \nRegister\, volunteer\, sponsor\, or make a donation today – every step makes a difference.
URL:https://www.crossroadsnova.org/event/empowerher-5k-2k/
LOCATION:Crossroads UMC\, 43454 Crossroads Drive\, Ashburn\, VA\, 20147
CATEGORIES:Adult Events,Family Events,Student Events
ATTACH;FMTTYPE=image/png:https://www.crossroadsnova.org/wp-content/uploads/2026/02/EmpowerHer-5K2K-e1771362369537.png
END:VEVENT
BEGIN:VEVENT
DTSTART;TZID=UTC:20260426T101500
DTEND;TZID=UTC:20260426T124500
DTSTAMP:20260423T233248
CREATED:20260324T170123Z
LAST-MODIFIED:20260324T170124Z
UID:10011373-1777198500-1777207500@www.crossroadsnova.org
SUMMARY:CPR/First Aid Skills Session
DESCRIPTION:10:15-10:45 AM  or  12:15-12:45 PM \nCome after worship on Sunday\, April 26th for an info session and hands-on practice of CPR Skills and Choking rescue procedures. This is not a certification course\, but rather a chance to learn life-saving skills in case of emergency. Taught by Dr. Larry Newell of EMERGENCY TRAINING RESOURCES\, LLC. Click here to register for this free Wellness Loudoun event.
URL:https://www.crossroadsnova.org/event/cpr-first-aid-skills-session/
LOCATION:Crossroads UMC\, 43454 Crossroads Drive\, Ashburn\, VA\, 20147
CATEGORIES:Adult Events
ATTACH;FMTTYPE=image/png:https://www.crossroadsnova.org/wp-content/uploads/2025/05/CPR-e1748370277903.png
END:VEVENT
BEGIN:VEVENT
DTSTART;TZID=UTC:20260427T190000
DTEND;TZID=UTC:20260427T200000
DTSTAMP:20260423T233248
CREATED:20260324T170636Z
LAST-MODIFIED:20260324T170841Z
UID:10011375-1777316400-1777320000@www.crossroadsnova.org
SUMMARY:Slow Flow Yoga
DESCRIPTION:Ease into your week with a calming\, mindful movement practice led by Yoga Therapist Nancy McGovern. This slow flow class is designed to help you release tension\, connect with your breath\, and move with intention—perfect for all levels\, including beginners. Click here to register for this Wellness Loudoun event.
URL:https://www.crossroadsnova.org/event/slow-flow-yoga/2026-04-27/
LOCATION:Crossroads UMC\, 43454 Crossroads Drive\, Ashburn\, VA\, 20147
CATEGORIES:Adult Events
ATTACH;FMTTYPE=image/png:https://www.crossroadsnova.org/wp-content/uploads/2025/06/Yoga-Mondays-e1757432975481.png
END:VEVENT
BEGIN:VEVENT
DTSTART;TZID=UTC:20260427T190000
DTEND;TZID=UTC:20260427T210000
DTSTAMP:20260423T233248
CREATED:20260105T203313Z
LAST-MODIFIED:20260105T203314Z
UID:10011004-1777316400-1777323600@www.crossroadsnova.org
SUMMARY:Pub Theology
DESCRIPTION:Pub Theology meets every other Monday evening. We are a group of men who are open\, honest and supportive of one another. We pick different books/topics and then come together over beer/wine/water/snacks/etc. to discuss in a casual conversation. \nSign up here. Email smallgroups@crossroadsnova.org for more information.
URL:https://www.crossroadsnova.org/event/pub-theology-4-2/2026-04-27/
LOCATION:VA
CATEGORIES:Adult Events,Small Groups
ATTACH;FMTTYPE=image/png:https://www.crossroadsnova.org/wp-content/uploads/2024/12/pub-theology-e1734554804145.png
END:VEVENT
BEGIN:VEVENT
DTSTART;TZID=UTC:20260429T183000
DTEND;TZID=UTC:20260429T203000
DTSTAMP:20260423T233248
CREATED:20260324T163400Z
LAST-MODIFIED:20260324T163401Z
UID:10011371-1777487400-1777494600@www.crossroadsnova.org
SUMMARY:Painting from Within
DESCRIPTION:Come enjoy a relaxing and creative evening of painting with purpose. In this guided class\, you’ll explore calming techniques while learning the process and playing with colors and texture. No experience necessary—just bring your imagination and a willingness to unwind. All materials provided. Click here to register for this Wellness Loudoun event.
URL:https://www.crossroadsnova.org/event/painting-from-within/
LOCATION:Crossroads UMC\, 43454 Crossroads Drive\, Ashburn\, VA\, 20147
CATEGORIES:Adult Events
ATTACH;FMTTYPE=image/png:https://www.crossroadsnova.org/wp-content/uploads/2026/03/Intuitive-Painting-e1774370020777.png
END:VEVENT
BEGIN:VEVENT
DTSTART;TZID=UTC:20260430T190000
DTEND;TZID=UTC:20260430T203000
DTSTAMP:20260423T233248
CREATED:20260105T192437Z
LAST-MODIFIED:20260124T234005Z
UID:10010746-1777575600-1777581000@www.crossroadsnova.org
SUMMARY:Thursday Women's Bible Study
DESCRIPTION:Connect\, share\, and grow with a welcoming group of women who meet weekly to explore meaningful topics. The next study will be Perfectly Flawed by Lisa Toney. Think your imperfections invalidate you for God’s service? Think again! Toney’s 6-week study explores how there’s an unparalleled power Jesus gives that’s only found in our weakness. If you are interested in participating\, please sign up here. \nThursdays\, 7-8:30pm
URL:https://www.crossroadsnova.org/event/thursday-womens-bible-study/2026-04-30/
LOCATION:Crossroads UMC\, 43454 Crossroads Drive\, Ashburn\, VA\, 20147
CATEGORIES:Adult Events
ATTACH;FMTTYPE=image/png:https://www.crossroadsnova.org/wp-content/uploads/2026/01/Thursday-Womens-Bible-Study-e1767640935372.png
END:VEVENT
BEGIN:VEVENT
DTSTART;TZID=UTC:20260430T190000
DTEND;TZID=UTC:20260430T203000
DTSTAMP:20260423T233248
CREATED:20260324T171207Z
LAST-MODIFIED:20260324T171207Z
UID:10011379-1777575600-1777581000@www.crossroadsnova.org
SUMMARY:Yoga for Anxiety
DESCRIPTION:This 4-week Yoga Therapy workshop is for adults with a diagnosis of and/or experiencing symptoms of anxiety. Each week will include evidence-informed practices and will build on practices previously learned. Practices will include yoga asana\, pranayama\, mindfulness\, meditation\, and self-reflection. Click here to register for this Wellness Loudoun event.
URL:https://www.crossroadsnova.org/event/yoga-for-anxiety/2026-04-30/
LOCATION:Crossroads UMC\, 43454 Crossroads Drive\, Ashburn\, VA\, 20147
CATEGORIES:Adult Events
ATTACH;FMTTYPE=image/png:https://www.crossroadsnova.org/wp-content/uploads/2025/07/Teen-Yoga-e1752260646950.png
END:VEVENT
BEGIN:VEVENT
DTSTART;TZID=UTC:20260502T190000
DTEND;TZID=UTC:20260502T203000
DTSTAMP:20260423T233248
CREATED:20260401T175148Z
LAST-MODIFIED:20260401T175148Z
UID:10011397-1777748400-1777753800@www.crossroadsnova.org
SUMMARY:Sound Bath
DESCRIPTION:Take part in a rejuvenating experience at our Sound Bath event with Spiral Sensations! Immerse yourself in a calming journey of sound that soothes both mind and body. Skilled practitioners will guide you through this unique sonic experience\, designed to leave you feeling refreshed\, renewed\, and deeply relaxed. This experience is made possible by Wellness Loudoun. \nCost: $25 (all proceeds go directly to the practitioners). Space is limited\, so click here to register now!
URL:https://www.crossroadsnova.org/event/sound-bath/
LOCATION:Crossroads UMC\, 43454 Crossroads Drive\, Ashburn\, VA\, 20147
CATEGORIES:Adult Events,Student Events
ATTACH;FMTTYPE=image/png:https://www.crossroadsnova.org/wp-content/uploads/2025/05/Sound-Bath-1-e1747244082222.png
END:VEVENT
BEGIN:VEVENT
DTSTART;TZID=UTC:20260504T170000
DTEND;TZID=UTC:20260504T180000
DTSTAMP:20260423T233248
CREATED:20251105T204646Z
LAST-MODIFIED:20260225T202935Z
UID:10011296-1777914000-1777917600@www.crossroadsnova.org
SUMMARY:Baptism Workshop
DESCRIPTION:In baptism\, each infant\, child\, and adult is marked as God’s beloved\, just as Jesus was marked in his own baptism. As a church community\, we celebrate the individual and commit to surround them with a welcoming community of love and support as they grow in their faith. \nThis workshop is designed for adults bringing their infants and children for baptism. \nPlease complete this form to attend the workshop.
URL:https://www.crossroadsnova.org/event/baptism-workshop-4/2026-05-04/
LOCATION:Crossroads UMC\, 43454 Crossroads Drive\, Ashburn\, VA\, 20147
CATEGORIES:Adult Events
ATTACH;FMTTYPE=image/png:https://www.crossroadsnova.org/wp-content/uploads/2024/09/Baptism-e1736437163441.png
END:VEVENT
BEGIN:VEVENT
DTSTART;TZID=UTC:20260504T190000
DTEND;TZID=UTC:20260504T200000
DTSTAMP:20260423T233248
CREATED:20260401T184251Z
LAST-MODIFIED:20260401T184252Z
UID:10011402-1777921200-1777924800@www.crossroadsnova.org
SUMMARY:Yoga Mondays with Gretchen
DESCRIPTION:Come for Gentle Flow\, a slow-paced yoga class focused on relieving stress and maintaining ease throughout your day. Learn the foundations of yoga—breath\, mindfulness\, and movement—in a gentle\, supportive setting. Click here to register for this Wellness Loudoun event.
URL:https://www.crossroadsnova.org/event/yoga-mondays-with-gretchen/
LOCATION:Crossroads UMC\, 43454 Crossroads Drive\, Ashburn\, VA\, 20147
CATEGORIES:Adult Events
ATTACH;FMTTYPE=image/png:https://www.crossroadsnova.org/wp-content/uploads/2025/06/Yoga-Mondays-e1757432975481.png
END:VEVENT
BEGIN:VEVENT
DTSTART;TZID=UTC:20260507T190000
DTEND;TZID=UTC:20260507T203000
DTSTAMP:20260423T233248
CREATED:20260105T192437Z
LAST-MODIFIED:20260124T234005Z
UID:10010747-1778180400-1778185800@www.crossroadsnova.org
SUMMARY:Thursday Women's Bible Study
DESCRIPTION:Connect\, share\, and grow with a welcoming group of women who meet weekly to explore meaningful topics. The next study will be Perfectly Flawed by Lisa Toney. Think your imperfections invalidate you for God’s service? Think again! Toney’s 6-week study explores how there’s an unparalleled power Jesus gives that’s only found in our weakness. If you are interested in participating\, please sign up here. \nThursdays\, 7-8:30pm
URL:https://www.crossroadsnova.org/event/thursday-womens-bible-study/2026-05-07/
LOCATION:Crossroads UMC\, 43454 Crossroads Drive\, Ashburn\, VA\, 20147
CATEGORIES:Adult Events
ATTACH;FMTTYPE=image/png:https://www.crossroadsnova.org/wp-content/uploads/2026/01/Thursday-Womens-Bible-Study-e1767640935372.png
END:VEVENT
BEGIN:VEVENT
DTSTART;TZID=UTC:20260511T190000
DTEND;TZID=UTC:20260511T200000
DTSTAMP:20260423T233248
CREATED:20260401T184437Z
LAST-MODIFIED:20260401T184437Z
UID:10011403-1778526000-1778529600@www.crossroadsnova.org
SUMMARY:Yoga Mondays with Gretchen
DESCRIPTION:Come for Gentle Flow\, a slow-paced yoga class focused on relieving stress and maintaining ease throughout your day. Learn the foundations of yoga—breath\, mindfulness\, and movement—in a gentle\, supportive setting. Click here to register for this Wellness Loudoun event.
URL:https://www.crossroadsnova.org/event/yoga-mondays-with-gretchen-2/
LOCATION:Crossroads UMC\, 43454 Crossroads Drive\, Ashburn\, VA\, 20147
CATEGORIES:Adult Events
ATTACH;FMTTYPE=image/png:https://www.crossroadsnova.org/wp-content/uploads/2025/06/Yoga-Mondays-e1757432975481.png
END:VEVENT
BEGIN:VEVENT
DTSTART;TZID=UTC:20260511T190000
DTEND;TZID=UTC:20260511T210000
DTSTAMP:20260423T233248
CREATED:20260105T203313Z
LAST-MODIFIED:20260105T203314Z
UID:10011005-1778526000-1778533200@www.crossroadsnova.org
SUMMARY:Pub Theology
DESCRIPTION:Pub Theology meets every other Monday evening. We are a group of men who are open\, honest and supportive of one another. We pick different books/topics and then come together over beer/wine/water/snacks/etc. to discuss in a casual conversation. \nSign up here. Email smallgroups@crossroadsnova.org for more information.
URL:https://www.crossroadsnova.org/event/pub-theology-4-2/2026-05-11/
LOCATION:VA
CATEGORIES:Adult Events,Small Groups
ATTACH;FMTTYPE=image/png:https://www.crossroadsnova.org/wp-content/uploads/2024/12/pub-theology-e1734554804145.png
END:VEVENT
BEGIN:VEVENT
DTSTART;TZID=UTC:20260512T190000
DTEND;TZID=UTC:20260512T210000
DTSTAMP:20260423T233248
CREATED:20260401T180309Z
LAST-MODIFIED:20260401T180310Z
UID:10011398-1778612400-1778619600@www.crossroadsnova.org
SUMMARY:Community Responder Training
DESCRIPTION:Are you interested in taking action locally to support our immigrant neighbors? Join NVM Loudoun & Western Fairfax Solidarity Committee for a Community Responder Training to gain the knowledge and skills to take action to create more safety for immigrant neighbors.
URL:https://www.crossroadsnova.org/event/community-responder-training/
LOCATION:Crossroads UMC\, 43454 Crossroads Drive\, Ashburn\, VA\, 20147
CATEGORIES:Adult Events
ATTACH;FMTTYPE=image/png:https://www.crossroadsnova.org/wp-content/uploads/2025/05/New-Virginia-Majority-1-e1747063640404.png
END:VEVENT
BEGIN:VEVENT
DTSTART;TZID=UTC:20260513T170000
DTEND;TZID=UTC:20260513T190000
DTSTAMP:20260423T233248
CREATED:20240730T180735Z
LAST-MODIFIED:20250520T170054Z
UID:10005917-1778691600-1778698800@www.crossroadsnova.org
SUMMARY:Homeless Shelter Meal
DESCRIPTION:Homeless Shelter Meal Mission\n1st & 2nd Wednesday of every month \nOn the 1st and 2nd Wednesday of each month\, Crossroads volunteers will provide hot meals for those in need at the Loudoun County Homeless Shelter. You can prepare food or serve at the shelter\, or both! This is a hands-on mission that will make an impact on all who serve. Families\, small groups and individuals are invited to volunteer. \nClick here for details and to sign up. Together\, we can extend Crossroads’ radical hospitality to those in need\, transforming the world\, one person\, one family\, one community at a time with the unconditional love of Jesus.
URL:https://www.crossroadsnova.org/event/homeless-shelter-meal/2026-05-13/
LOCATION:Loudoun Homeless Shelter\, 19520 Meadowview Court\, Leesburg\, VA\, 20175\, United States
CATEGORIES:Adult Events,Family Events,Service,Student Events
ATTACH;FMTTYPE=image/png:https://www.crossroadsnova.org/wp-content/uploads/2024/07/Homeless-Shelter-Dinner-1.png
END:VEVENT
BEGIN:VEVENT
DTSTART;TZID=UTC:20260514T190000
DTEND;TZID=UTC:20260514T203000
DTSTAMP:20260423T233248
CREATED:20260105T192437Z
LAST-MODIFIED:20260124T234005Z
UID:10010748-1778785200-1778790600@www.crossroadsnova.org
SUMMARY:Thursday Women's Bible Study
DESCRIPTION:Connect\, share\, and grow with a welcoming group of women who meet weekly to explore meaningful topics. The next study will be Perfectly Flawed by Lisa Toney. Think your imperfections invalidate you for God’s service? Think again! Toney’s 6-week study explores how there’s an unparalleled power Jesus gives that’s only found in our weakness. If you are interested in participating\, please sign up here. \nThursdays\, 7-8:30pm
URL:https://www.crossroadsnova.org/event/thursday-womens-bible-study/2026-05-14/
LOCATION:Crossroads UMC\, 43454 Crossroads Drive\, Ashburn\, VA\, 20147
CATEGORIES:Adult Events
ATTACH;FMTTYPE=image/png:https://www.crossroadsnova.org/wp-content/uploads/2026/01/Thursday-Womens-Bible-Study-e1767640935372.png
END:VEVENT
BEGIN:VEVENT
DTSTART;TZID=UTC:20260517T090000
DTEND;TZID=UTC:20260517T100000
DTSTAMP:20260423T233248
CREATED:20260402T225511Z
LAST-MODIFIED:20260402T231626Z
UID:10011387-1779008400-1779012000@www.crossroadsnova.org
SUMMARY:Graduation Sunday 2026
DESCRIPTION:Celebrate Our Graduates\n      \n\n        Graduation Sunday is almost here\, and we cannot wait to celebrate this important milestone with you.\n        On Sunday\, May 17\, we will recognize our High School\, College\, and Post-Secondary graduates during worship and gather again in the evening for a special dinner with our high school graduates and their parents.\n       \n \n\n\nDate\nMay 17\, 2026\n\nWorship Recognition\n9:00 AM & 11:00 AM\n\nGraduation Dinner\n6:00 PM at Crossroads\n\nWho We’re Celebrating\n\n        We are excited to recognize High School\, College\, and Post-Secondary graduates during both morning services.\n       \n \n\nGraduation Dinner\n\n        High school graduates and their parents are invited to a special evening dinner at 6:00 PM at Crossroads. It will be a meaningful time of blessing\, connection\, and a delicious catered meal.\n       \n \n\n      If you have a graduate to recognize\, please fill out the form below.\n      For questions\, email\n      zconradie@crossroadsnova.org.\n     \n\n      Register
URL:https://www.crossroadsnova.org/event/graduation-sunday-2026/
LOCATION:Crossroads UMC\, 43454 Crossroads Drive\, Ashburn\, VA\, 20147
CATEGORIES:Adult Events,High School Events,Student Events,Sunday Mornings
ATTACH;FMTTYPE=image/png:https://www.crossroadsnova.org/wp-content/uploads/2026/04/Graduation-Sunday.png
END:VEVENT
BEGIN:VEVENT
DTSTART;TZID=UTC:20260517T100000
DTEND;TZID=UTC:20260517T123000
DTSTAMP:20260423T233248
CREATED:20260112T173224Z
LAST-MODIFIED:20260209T203954Z
UID:10011253-1779012000-1779021000@www.crossroadsnova.org
SUMMARY:Tea with Tim
DESCRIPTION:Interested in learning more about Crossroads and/or membership? Come to Ryan Chapel (Rm 104) after worship to meet with Pastor Tim and others to learn more!
URL:https://www.crossroadsnova.org/event/tea-with-tim-2/2026-05-17/
LOCATION:Crossroads UMC\, 43454 Crossroads Drive\, Ashburn\, VA\, 20147
CATEGORIES:Adult Events
ATTACH;FMTTYPE=image/png:https://www.crossroadsnova.org/wp-content/uploads/2024/05/Tea-with-Tim-1-e1728660117908.png
END:VEVENT
BEGIN:VEVENT
DTSTART;TZID=UTC:20260518T190000
DTEND;TZID=UTC:20260518T200000
DTSTAMP:20260423T233248
CREATED:20260401T184618Z
LAST-MODIFIED:20260401T184618Z
UID:10011404-1779130800-1779134400@www.crossroadsnova.org
SUMMARY:Yoga Mondays with Gretchen
DESCRIPTION:Come for Gentle Flow\, a slow-paced yoga class focused on relieving stress and maintaining ease throughout your day. Learn the foundations of yoga—breath\, mindfulness\, and movement—in a gentle\, supportive setting. Click here to register for this Wellness Loudoun event.
URL:https://www.crossroadsnova.org/event/yoga-mondays-with-gretchen-3/
LOCATION:Crossroads UMC\, 43454 Crossroads Drive\, Ashburn\, VA\, 20147
CATEGORIES:Adult Events
ATTACH;FMTTYPE=image/png:https://www.crossroadsnova.org/wp-content/uploads/2025/06/Yoga-Mondays-e1757432975481.png
END:VEVENT
BEGIN:VEVENT
DTSTART;TZID=UTC:20260520T190000
DTEND;TZID=UTC:20260520T203000
DTSTAMP:20260423T233248
CREATED:20260401T182106Z
LAST-MODIFIED:20260410T153533Z
UID:10011400-1779303600-1779309000@www.crossroadsnova.org
SUMMARY:Beginner Zentangle: Bloom & Breathe
DESCRIPTION:Take a relaxing\, beginner-friendly class where Certified Zentangle Teacher Kerstin Becker guides you in creating a charming art piece using simple Zentangle® patterns—no art skills needed. Bring a woman who means the world to you (mom\, grandma\, friend\, neighbor\, daughter…). Click here to register for this Wellness Loudoun event.
URL:https://www.crossroadsnova.org/event/beginner-zentangle-bloom-breathe/
LOCATION:Crossroads UMC\, 43454 Crossroads Drive\, Ashburn\, VA\, 20147
CATEGORIES:Adult Events,Student Events
ATTACH;FMTTYPE=image/png:https://www.crossroadsnova.org/wp-content/uploads/2025/10/zentangle-e1761248747913.png
END:VEVENT
END:VCALENDAR