BEGIN:VCALENDAR
VERSION:2.0
PRODID:-//Crossroads United Methodist Church - ECPv6.15.20//NONSGML v1.0//EN
CALSCALE:GREGORIAN
METHOD:PUBLISH
X-WR-CALNAME:Crossroads United Methodist Church
X-ORIGINAL-URL:https://www.crossroadsnova.org
X-WR-CALDESC:Events for Crossroads United Methodist Church
REFRESH-INTERVAL;VALUE=DURATION:PT1H
X-Robots-Tag:noindex
X-PUBLISHED-TTL:PT1H
BEGIN:VTIMEZONE
TZID:UTC
BEGIN:STANDARD
TZOFFSETFROM:+0000
TZOFFSETTO:+0000
TZNAME:UTC
DTSTART:20250101T000000
END:STANDARD
END:VTIMEZONE
BEGIN:VEVENT
DTSTART;TZID=UTC:20260418T110000
DTEND;TZID=UTC:20260418T130000
DTSTAMP:20260424T103943
CREATED:20260326T195014Z
LAST-MODIFIED:20260327T155914Z
UID:10011384-1776510000-1776517200@www.crossroadsnova.org
SUMMARY:New Parent Group: Picnic & Pictures Meetup
DESCRIPTION:Families with children four and under\, come for a New Parent Group meetup at Burnside Farms in Manassas! Pack a picnic lunch and enjoy the beautiful tulip fields—well worth the short drive. There are also picnic tables and plenty of open space for little ones to move around. To make the day even more special\, a photographer will be on-site to capture quick family photos in the tulips. Each family will have a few minutes—perfect for a lovely spring snapshot! \nWe have a limited number of pre-purchased tickets available for $20 per adult (children 5 and under are free). To reserve your spot\, please RSVP to newparentsgroup@crossroadsnova.org.
URL:https://www.crossroadsnova.org/event/new-parent-group-picnic-pictures-meetup/
LOCATION:VA
CATEGORIES:Children Events,Family Events
ATTACH;FMTTYPE=image/png:https://www.crossroadsnova.org/wp-content/uploads/2026/03/Screenshot-2026-03-25-at-11.21.16-PM-e1774554310867.png
END:VEVENT
END:VCALENDAR