BEGIN:VCALENDAR
VERSION:2.0
PRODID:-//Crossroads United Methodist Church - ECPv6.15.20//NONSGML v1.0//EN
CALSCALE:GREGORIAN
METHOD:PUBLISH
X-WR-CALNAME:Crossroads United Methodist Church
X-ORIGINAL-URL:https://www.crossroadsnova.org
X-WR-CALDESC:Events for Crossroads United Methodist Church
REFRESH-INTERVAL;VALUE=DURATION:PT1H
X-Robots-Tag:noindex
X-PUBLISHED-TTL:PT1H
BEGIN:VTIMEZONE
TZID:UTC
BEGIN:STANDARD
TZOFFSETFROM:+0000
TZOFFSETTO:+0000
TZNAME:UTC
DTSTART:20250101T000000
END:STANDARD
END:VTIMEZONE
BEGIN:VEVENT
DTSTART;TZID=UTC:20260602T090000
DTEND;TZID=UTC:20260602T130000
DTSTAMP:20260422T154303
CREATED:20260226T201451Z
LAST-MODIFIED:20260226T201451Z
UID:10011315-1780390800-1780405200@www.crossroadsnova.org
SUMMARY:HOPE Preschool Summer Camp
DESCRIPTION:June 1-5; June 8-12\n9 AM-1 PM\nFor Ages 3-5 years old\nEach day of preschool camp brings a fresh theme filled with creative and engaging activities—theme-based crafts\, hands-on science explorations\, snacks that tie into the day’s adventure\, games\, and more. All experiences are led by the caring and experienced staff of HOPE Preschool\, creating a safe\, nurturing\, and joyful environment where children can learn\, play\, and grow. Click here for more information and to register!
URL:https://www.crossroadsnova.org/event/hope-preschool-summer-camp-2/2026-06-02/
LOCATION:Crossroads UMC\, 43454 Crossroads Drive\, Ashburn\, VA\, 20147
CATEGORIES:Children Events
ATTACH;FMTTYPE=image/png:https://www.crossroadsnova.org/wp-content/uploads/2025/04/Preschool-Summer-Camp-1-e1745520331785.png
END:VEVENT
END:VCALENDAR