BEGIN:VCALENDAR
VERSION:2.0
PRODID:-//Crossroads United Methodist Church - ECPv6.15.20//NONSGML v1.0//EN
CALSCALE:GREGORIAN
METHOD:PUBLISH
X-ORIGINAL-URL:https://www.crossroadsnova.org
X-WR-CALDESC:Events for Crossroads United Methodist Church
REFRESH-INTERVAL;VALUE=DURATION:PT1H
X-Robots-Tag:noindex
X-PUBLISHED-TTL:PT1H
BEGIN:VTIMEZONE
TZID:UTC
BEGIN:STANDARD
TZOFFSETFROM:+0000
TZOFFSETTO:+0000
TZNAME:UTC
DTSTART:20250101T000000
END:STANDARD
END:VTIMEZONE
BEGIN:VEVENT
DTSTART;TZID=UTC:20260410T070000
DTEND;TZID=UTC:20260412T120000
DTSTAMP:20260424T051750
CREATED:20260226T183820Z
LAST-MODIFIED:20260304T011210Z
UID:10011312-1775804400-1775995200@www.crossroadsnova.org
SUMMARY:High School Beach Retreat
DESCRIPTION:Get ready for an unforgettable weekend at the beach retreat in Bethany Beach. Whether you want to relax by the ocean\, grow in faith\, or make lasting memories with friends\, this trip offers space to do it all. We’ll stay at Bethany Beach Center\, enjoying time on the beach\, meaningful worship\, great meals\, and opportunities to connect and recharge. Click here for more information and to register!
URL:https://www.crossroadsnova.org/event/high-school-beach-retreat/
LOCATION:VA
CATEGORIES:High School Events
ATTACH;FMTTYPE=image/png:https://www.crossroadsnova.org/wp-content/uploads/2026/02/Beach-Retreat-1.png
END:VEVENT
BEGIN:VEVENT
DTSTART;TZID=UTC:20260412T110000
DTEND;TZID=UTC:20260412T120000
DTSTAMP:20260424T051750
CREATED:20250321T191403Z
LAST-MODIFIED:20260114T181359Z
UID:10008144-1775991600-1775995200@www.crossroadsnova.org
SUMMARY:Student Ministry Breakfast Club
DESCRIPTION:During the school year\, this is a relaxing time for breakfast treats\, laughter\, and connection on Sunday mornings at 11am. Teachings and discussions support students as they grow in understanding God’s love for each of us and every person we come in contact with. \nWant to be a Breakfast Club volunteer? Email students@crossroadsnova.org to see how and when you can help!
URL:https://www.crossroadsnova.org/event/student-ministry-breakfast-club-2/2026-04-12/
LOCATION:Crossroads UMC\, 43454 Crossroads Drive\, Ashburn\, VA\, 20147
CATEGORIES:Student Events
ATTACH;FMTTYPE=image/jpeg:https://www.crossroadsnova.org/wp-content/uploads/2022/11/AdobeStock_145129346-e1667267308935.jpeg
END:VEVENT
END:VCALENDAR