BEGIN:VCALENDAR
METHOD:PUBLISH
VERSION:2.0
CALSCALE:GREGORIAN
PRODID:-//NONSGML WPForms//NONSGML Sugar Calendar Feeds v3.10.0//EN
X-WR-CALNAME:Food For Neighbors - Red Bag Day
X-WR-CALDESC:Crossroads United Methodist Church
X-WR-TIMEZONE:UTC
BEGIN:VTIMEZONE
TZID:UTC
BEGIN:STANDARD
TZOFFSETFROM:+0000
TZOFFSETTO:+0000
DTSTART:20250314T210000
TZNAME:UTC
END:STANDARD
END:VTIMEZONE
BEGIN:VTIMEZONE
TZID:UTC
BEGIN:STANDARD
TZOFFSETFROM:+0000
TZOFFSETTO:+0000
DTSTART:20250314T210000
TZNAME:UTC
END:STANDARD
END:VTIMEZONE
BEGIN:VEVENT
SUMMARY:Food For Neighbors - Red Bag Day
DESCRIPTION:Food For Neighbors provides meals and snacks for local middl
 e and high school students who might otherwise go hungry. Five times a y
 ear\, participants receive a Red Bag and grocery list\, fill it\, and le
 ave it for drivers to pick up from their doorstep. Volunteers then sort 
 and distribute the food to schools the same day.\n\nCrossroads proudly s
 erves as the sorting site for Loudoun County. Click here to see how you 
 can help.
URL;VALUE=URI:https://www.crossroadsnova.org/events/food-for-neighbors-r
 ed-bag-day/
UID:urn:uuid:21b338d9-e4c8-472f-9d5a-097d058e9630
STATUS:CONFIRMED
ORGANIZER:
DTSTAMP:20260419T234238Z
DTSTART;TZID=UTC:20250913T090000
DTEND;TZID=UTC:20250913T120000
LOCATION:43454 Crossroads Drive
END:VEVENT
END:VCALENDAR