BEGIN:VCALENDAR
METHOD:PUBLISH
VERSION:2.0
CALSCALE:GREGORIAN
PRODID:-//NONSGML WPForms//NONSGML Sugar Calendar Feeds v3.10.0//EN
X-WR-CALNAME:Meetup for New Parents at Vanish Brewery
X-WR-CALDESC:Crossroads United Methodist Church
X-WR-TIMEZONE:UTC
BEGIN:VTIMEZONE
TZID:UTC
BEGIN:STANDARD
TZOFFSETFROM:+0000
TZOFFSETTO:+0000
DTSTART:20250315T040000
TZNAME:UTC
END:STANDARD
END:VTIMEZONE
BEGIN:VTIMEZONE
TZID:UTC
BEGIN:STANDARD
TZOFFSETFROM:+0000
TZOFFSETTO:+0000
DTSTART:20250315T040000
TZNAME:UTC
END:STANDARD
END:VTIMEZONE
BEGIN:VEVENT
SUMMARY:Meetup for New Parents at Vanish Brewery
DESCRIPTION:New Parent Meetup at Vanish BreweryAre you a "New Parent" fa
 mily with kids ages 4 and under? This meetup is just for you! Bring the 
 little ones to swing\, play\, and explore the playground while parents r
 aise a glass to new friendships and connection. Come for the beer\, the 
 playground\, and the great company - and stay for dinner if you’d like
 . The Vanish menu has all the favorites: nachos\, burgers\, tacos\, and 
 pizza (easy\, tasty\, and kid-approved!).\nIt’s the perfect spot for p
 arents of young kids to relax together. And if the little ones still hav
 e energy to burn\, stick around for live music - Holding a Grunge\, a 90
 s cover band\, starts at 5pm.
URL;VALUE=URI:https://www.crossroadsnova.org/events/meetup-for-new-paren
 ts-at-vanish-brewery/
UID:urn:uuid:b08ad05d-4c6d-46ba-a7fc-4be2373406a8
STATUS:CONFIRMED
ORGANIZER:
DTSTAMP:20260423T144405Z
DTSTART;TZID=UTC:20250913T160000
DTEND;TZID=UTC:20250913T190000
LOCATION:42245 Black Hops Ln
END:VEVENT
END:VCALENDAR