BEGIN:VCALENDAR
METHOD:PUBLISH
VERSION:2.0
CALSCALE:GREGORIAN
PRODID:-//NONSGML WPForms//NONSGML Sugar Calendar Feeds v3.10.0//EN
X-WR-CALNAME:Trivia Night
X-WR-CALDESC:Crossroads United Methodist Church
X-WR-TIMEZONE:UTC
BEGIN:VTIMEZONE
TZID:UTC
BEGIN:STANDARD
TZOFFSETFROM:+0000
TZOFFSETTO:+0000
DTSTART:20250320T070000
TZNAME:UTC
END:STANDARD
END:VTIMEZONE
BEGIN:VTIMEZONE
TZID:UTC
BEGIN:STANDARD
TZOFFSETFROM:+0000
TZOFFSETTO:+0000
DTSTART:20250320T070000
TZNAME:UTC
END:STANDARD
END:VTIMEZONE
BEGIN:VEVENT
SUMMARY:Trivia Night
DESCRIPTION:Come on your own or bring a team up to six people for a fun 
 night of trivia at Crossroads. A quizmaster for a DC based trivia compan
 y will present six rounds of general knowledge trivia. This is a free ev
 ent for people of all ages.\n\nPlease bring a snack (chips\, cookies\, e
 tc) to share. Crossroads will provide water and iced tea.\n\nPlease sign
  up on the Sign Up Genius as an individual\, couple\, friend group\, or 
 family. Teams will be made up of six people max.
URL;VALUE=URI:https://www.crossroadsnova.org/events/trivia-night-5/
UID:urn:uuid:effe7351-c61b-4bf7-bc1a-f272f52ae533
STATUS:CONFIRMED
ORGANIZER:
DTSTAMP:20260419T185011Z
DTSTART;TZID=UTC:20250918T190000
DTEND;TZID=UTC:20250918T210000
LOCATION:43454 Crossroads Drive
END:VEVENT
END:VCALENDAR