BEGIN:VCALENDAR
METHOD:PUBLISH
VERSION:2.0
CALSCALE:GREGORIAN
PRODID:-//NONSGML WPForms//NONSGML Sugar Calendar Feeds v3.10.0//EN
X-WR-CALNAME:"Voyages of Paul" Cruise with Pastor Tim
X-WR-CALDESC:Crossroads United Methodist Church
X-WR-TIMEZONE:UTC
BEGIN:VTIMEZONE
TZID:UTC
BEGIN:STANDARD
TZOFFSETFROM:+0000
TZOFFSETTO:+0000
DTSTART:20250415T120000
TZNAME:UTC
END:STANDARD
END:VTIMEZONE
BEGIN:VTIMEZONE
TZID:UTC
BEGIN:STANDARD
TZOFFSETFROM:+0000
TZOFFSETTO:+0000
DTSTART:20250415T120000
TZNAME:UTC
END:STANDARD
END:VTIMEZONE
BEGIN:VEVENT
SUMMARY:"Voyages of Paul" Cruise with Pastor Tim
DESCRIPTION:Join Pastor Tim on a pilgrimage to Greece and Turkey. On thi
 s cruise we will be visiting the communities that Paul wrote to in the N
 ew Testament. The trip is October 15-26\, 2025.\n\nClick here for more 
 information and to register. Tour: GC25\; Group Leader: Tim Ward\; Leade
 r ID: 61002\n\nEmail Pastor Tim with any questions.
URL;VALUE=URI:https://www.crossroadsnova.org/events/voyages-of-paul-crui
 se-with-pastor-tim/
UID:urn:uuid:afdd5461-a40f-4693-b546-f757c06b9250
STATUS:CONFIRMED
ORGANIZER:
DTSTAMP:20260419T122524Z
DTSTART;VALUE=DATE:20251015
DTEND;VALUE=DATE:20251026
LOCATION:43454 Crossroads Drive
END:VEVENT
END:VCALENDAR